BEGIN:VCALENDAR
VERSION:2.0
PRODID:icalendar-ruby
CALSCALE:GREGORIAN
METHOD:PUBLISH
BEGIN:VEVENT
DTSTAMP:20260421T060711Z
UID:https://www.haus-der-astronomie.de/events/45101/4140137
DTSTART:20261120T150000Z
CLASS:PUBLIC
CREATED:20260313T164733Z
DESCRIPTION:Einblicke in die aktuelle Forschung der Institute auf dem Köni
 gstuhl
LAST-MODIFIED:20260313T164805Z
LOCATION:MPIA-Campus
ORGANIZER;CN=Haus der Astronomie:mailto:sekretariat@hda-hd.de
SUMMARY:Astronomische Königstuhlführung
URL;VALUE=URI:https://www.haus-der-astronomie.de/events/45101/4140137
END:VEVENT
END:VCALENDAR
