BEGIN:VCALENDAR
VERSION:2.0
PRODID:icalendar-ruby
CALSCALE:GREGORIAN
METHOD:PUBLISH
BEGIN:VEVENT
DTSTAMP:20260421T061707Z
UID:https://www.haus-der-astronomie.de/events/45100/4140137
DTSTART:20261016T140000Z
CLASS:PUBLIC
CREATED:20260313T164647Z
DESCRIPTION:Einblicke in die aktuelle Forschung der Institute auf dem Köni
 gstuhl
LAST-MODIFIED:20260313T164715Z
LOCATION:MPIA-Campus
ORGANIZER;CN=Haus der Astronomie:mailto:sekretariat@hda-hd.de
SUMMARY:Astronomische Königstuhlführung
URL;VALUE=URI:https://www.haus-der-astronomie.de/events/45100/4140137
END:VEVENT
END:VCALENDAR
