BEGIN:VCALENDAR
VERSION:2.0
PRODID:icalendar-ruby
CALSCALE:GREGORIAN
METHOD:PUBLISH
BEGIN:VEVENT
DTSTAMP:20260421T052611Z
UID:https://www.haus-der-astronomie.de/events/45093/3830874
DTSTART:20260612T140000Z
CLASS:PUBLIC
CREATED:20260313T163424Z
DESCRIPTION:Einblicke in die aktuelle Forschung der Institute auf dem Köni
 gstuhl
LAST-MODIFIED:20260313T163533Z
LOCATION:MPIA-Campus
ORGANIZER;CN=Haus der Astronomie:mailto:sekretariat@hda-hd.de
SUMMARY:Astronomische Königstuhlführung
URL;VALUE=URI:https://www.haus-der-astronomie.de/events/45093/3830874
END:VEVENT
END:VCALENDAR
